BEGIN:VCALENDAR
VERSION:2.0
PRODID:-//Will County NOW - ECPv6.15.19//NONSGML v1.0//EN
CALSCALE:GREGORIAN
METHOD:PUBLISH
X-WR-CALNAME:Will County NOW
X-ORIGINAL-URL:http://www.willcountynow.org
X-WR-CALDESC:Events for Will County NOW
REFRESH-INTERVAL;VALUE=DURATION:PT1H
X-Robots-Tag:noindex
X-PUBLISHED-TTL:PT1H
BEGIN:VTIMEZONE
TZID:America/Chicago
BEGIN:DAYLIGHT
TZOFFSETFROM:-0600
TZOFFSETTO:-0500
TZNAME:CDT
DTSTART:20240310T080000
END:DAYLIGHT
BEGIN:STANDARD
TZOFFSETFROM:-0500
TZOFFSETTO:-0600
TZNAME:CST
DTSTART:20241103T070000
END:STANDARD
BEGIN:DAYLIGHT
TZOFFSETFROM:-0600
TZOFFSETTO:-0500
TZNAME:CDT
DTSTART:20250309T080000
END:DAYLIGHT
BEGIN:STANDARD
TZOFFSETFROM:-0500
TZOFFSETTO:-0600
TZNAME:CST
DTSTART:20251102T070000
END:STANDARD
BEGIN:DAYLIGHT
TZOFFSETFROM:-0600
TZOFFSETTO:-0500
TZNAME:CDT
DTSTART:20260308T080000
END:DAYLIGHT
BEGIN:STANDARD
TZOFFSETFROM:-0500
TZOFFSETTO:-0600
TZNAME:CST
DTSTART:20261101T070000
END:STANDARD
END:VTIMEZONE
BEGIN:VEVENT
DTSTART;VALUE=DATE:20251018
DTEND;VALUE=DATE:20251019
DTSTAMP:20260424T224413
CREATED:20250903T020706Z
LAST-MODIFIED:20251016T012049Z
UID:1951-1760745600-1760831999@www.willcountynow.org
SUMMARY:No Kings Protest
DESCRIPTION:In June\, we mobilized millions of people to take to the streets and declare with one voice: America has no kings. Trump’s birthday parade was drowned out by protests in all 50 states and throughout the world. His attempt to turn June 14 into a coronation backfired\, and the story of the day was about the strength of a movement rising against his authoritarian power grabs. \nThe millions of people who turned out in June helped create one of the largest single days of protest in US history\, and their courage and commitment set an example for others to follow. Since then\, we’ve seen more and more political leaders and institutions choosing to resist the regime rather than play dead. \nBut we knew June 14 was just the start. Trump is doubling down on his authoritarian tactics. He is disappearing immigrants to sprawling concentration camps\, sending troops into our cities\, threatening to interfere in elections\, rigging maps to steal power from the voters\, and orchestrating a massive giveaway to his billionaire allies as families struggle. \nTrump is ramping up his attacks on our rights and democracy\, but we’re not backing down. On October 18\, we’re taking to the streets in more cities and in larger numbers to remind Trump\, his cronies\, and those on the sidelines looking for hope: America has no kings.  \nSome other locations where protests are taking place: \n\n\n\n\n\n\n\n\nFind a #NoKings Rally Near You \n\n\n\n\n\n\n\n\n\n\n\n\n\n\n\nLisle | 11:00 AM – 12:30 PM | 3200 Ogden Avenue \nLombard\, Glen Ellyn\, Wheaton\, & Villa Park | 1:00 – 2:30 PM | Sign up for a location along the Roosevelt Road Resistance \nNaperville | 12:00 – 2:00 PM | Naperville Municipal Center \nAurora | 12:00 – 2:00 PM | McCarty Park \nElmhurst | 2:30 – 4:30 PM | Elmhurst City Hall \nBartlett | 11:00 AM – 1:00 PM | Stearns Rd & Bartlett Rd \nBolingbrook | 11:00 AM – 1:00 PM | Janes Ave and Boughton Rd \nChicago | 12:00 – 2:00 PM | Butler Field at Grant Park \nArlington Heights | 3:00 – 5:00 PM | Recreation Park Soccer Field \nElgin | 11:00 AM – 4:00 PM | Kimball St and Grove Ave \nGeneva | 11:30 AM – 1:00 PM | Gleneagle Dr & Randall Rd \nJoliet | 11:00 AM – 1:00 PM | Mall Loop Dr and Rt 30\n\n\n\n\n\n\n\n 
URL:http://www.willcountynow.org/event/no-kings-protest/
LOCATION:Ikea Corner\, Janes Avenue & East Boughton\, Bolingbrook\, IL\, 60440\, United States
CATEGORIES:Partner Event,Protest/Demonstration,Will County NOW Event
ATTACH;FMTTYPE=image/jpeg:http://www.willcountynow.org/wp-content/uploads/2025/09/16x9_Oct_18_Save_the_Date_date_promo_No_Kings.jpg
END:VEVENT
END:VCALENDAR