BEGIN:VCALENDAR
VERSION:2.0
PRODID:-//Will County NOW - ECPv6.15.19//NONSGML v1.0//EN
CALSCALE:GREGORIAN
METHOD:PUBLISH
X-ORIGINAL-URL:https://www.willcountynow.org
X-WR-CALDESC:Events for Will County NOW
REFRESH-INTERVAL;VALUE=DURATION:PT1H
X-Robots-Tag:noindex
X-PUBLISHED-TTL:PT1H
BEGIN:VTIMEZONE
TZID:America/Chicago
BEGIN:DAYLIGHT
TZOFFSETFROM:-0600
TZOFFSETTO:-0500
TZNAME:CDT
DTSTART:20240310T080000
END:DAYLIGHT
BEGIN:STANDARD
TZOFFSETFROM:-0500
TZOFFSETTO:-0600
TZNAME:CST
DTSTART:20241103T070000
END:STANDARD
BEGIN:DAYLIGHT
TZOFFSETFROM:-0600
TZOFFSETTO:-0500
TZNAME:CDT
DTSTART:20250309T080000
END:DAYLIGHT
BEGIN:STANDARD
TZOFFSETFROM:-0500
TZOFFSETTO:-0600
TZNAME:CST
DTSTART:20251102T070000
END:STANDARD
BEGIN:DAYLIGHT
TZOFFSETFROM:-0600
TZOFFSETTO:-0500
TZNAME:CDT
DTSTART:20260308T080000
END:DAYLIGHT
BEGIN:STANDARD
TZOFFSETFROM:-0500
TZOFFSETTO:-0600
TZNAME:CST
DTSTART:20261101T070000
END:STANDARD
BEGIN:DAYLIGHT
TZOFFSETFROM:-0600
TZOFFSETTO:-0500
TZNAME:CDT
DTSTART:20270314T080000
END:DAYLIGHT
BEGIN:STANDARD
TZOFFSETFROM:-0500
TZOFFSETTO:-0600
TZNAME:CST
DTSTART:20271107T070000
END:STANDARD
END:VTIMEZONE
BEGIN:VEVENT
DTSTART;TZID=America/Chicago:20260331T190000
DTEND;TZID=America/Chicago:20260331T200000
DTSTAMP:20260421T034645
CREATED:20260324T162610Z
LAST-MODIFIED:20260324T162610Z
UID:2118-1774983600-1774987200@www.willcountynow.org
SUMMARY:March Chapter Meeting
DESCRIPTION:Monthly meeting held on Zoom.  Zoom link\, agenda and previous meeting’s minutes will be posted in the private Facebook group https://www.facebook.com/groups/1657200231201158\, or you can email admin@willcountynow.org to have them emailed to you.
URL:https://www.willcountynow.org/event/march-chapter-meeting/
LOCATION:Virutal
CATEGORIES:Chapter Meeting
ATTACH;FMTTYPE=image/png:https://www.willcountynow.org/wp-content/uploads/2021/11/ChapterMeeting.png
END:VEVENT
BEGIN:VEVENT
DTSTART;TZID=America/Chicago:20260224T190000
DTEND;TZID=America/Chicago:20260224T200000
DTSTAMP:20260421T034645
CREATED:20260107T033314Z
LAST-MODIFIED:20260107T033314Z
UID:2034-1771959600-1771963200@www.willcountynow.org
SUMMARY:February Chapter Meeting
DESCRIPTION:Details can be found in the private Will County NOW Facebook group\, or you can email admin@willcountynow.org for how to join.
URL:https://www.willcountynow.org/event/february-chapter-meeting-2/
LOCATION:Virutal
CATEGORIES:Chapter Meeting
ATTACH;FMTTYPE=image/png:https://www.willcountynow.org/wp-content/uploads/2021/11/ChapterMeeting.png
END:VEVENT
BEGIN:VEVENT
DTSTART;TZID=America/Chicago:20260127T190000
DTEND;TZID=America/Chicago:20260127T200000
DTSTAMP:20260421T034645
CREATED:20260107T033154Z
LAST-MODIFIED:20260107T033154Z
UID:2032-1769540400-1769544000@www.willcountynow.org
SUMMARY:January Chapter meeting
DESCRIPTION:Details can be found in the private Will County NOW Facebook group\, or you can email admin@willcountynow.org for how to join.
URL:https://www.willcountynow.org/event/january-chapter-meeting-2/
LOCATION:Virutal
CATEGORIES:Chapter Meeting
ATTACH;FMTTYPE=image/png:https://www.willcountynow.org/wp-content/uploads/2021/11/ChapterMeeting.png
END:VEVENT
BEGIN:VEVENT
DTSTART;TZID=America/Chicago:20251118T190000
DTEND;TZID=America/Chicago:20251118T200000
DTSTAMP:20260421T034645
CREATED:20250307T030921Z
LAST-MODIFIED:20250307T030921Z
UID:1526-1763492400-1763496000@www.willcountynow.org
SUMMARY:November Chapter Meeting
DESCRIPTION:Details can be found in the private Will County NOW Facebook group\, or you can email admin@willcountynow.org for how to join.
URL:https://www.willcountynow.org/event/november-chapter-meeting-2/
LOCATION:Virutal
CATEGORIES:Chapter Meeting
END:VEVENT
BEGIN:VEVENT
DTSTART;TZID=America/Chicago:20251028T190000
DTEND;TZID=America/Chicago:20251028T200000
DTSTAMP:20260421T034645
CREATED:20250307T030557Z
LAST-MODIFIED:20250307T030557Z
UID:1524-1761678000-1761681600@www.willcountynow.org
SUMMARY:October Chapter Meeting
DESCRIPTION:Details can be found in the private Will County NOW Facebook group\, or you can email admin@willcountynow.org for how to join.
URL:https://www.willcountynow.org/event/october-chapter-meeting/
LOCATION:Virutal
CATEGORIES:Chapter Meeting
END:VEVENT
BEGIN:VEVENT
DTSTART;TZID=America/Chicago:20250930T190000
DTEND;TZID=America/Chicago:20250930T200000
DTSTAMP:20260421T034645
CREATED:20250307T030459Z
LAST-MODIFIED:20250307T030459Z
UID:1522-1759258800-1759262400@www.willcountynow.org
SUMMARY:September Chapter Meeting
DESCRIPTION:Details can be found in the private Will County NOW Facebook group\, or you can email admin@willcountynow.org for how to join.
URL:https://www.willcountynow.org/event/september-chapter-meeting-3/
LOCATION:Virutal
CATEGORIES:Chapter Meeting
END:VEVENT
BEGIN:VEVENT
DTSTART;TZID=America/Chicago:20250819T190000
DTEND;TZID=America/Chicago:20250819T200000
DTSTAMP:20260421T034645
CREATED:20250307T030402Z
LAST-MODIFIED:20250730T143012Z
UID:1520-1755630000-1755633600@www.willcountynow.org
SUMMARY:August Chapter Meeting
DESCRIPTION:This meeting is a week earlier than usual due to a schedule conflict. \nDetails can be found in the private Will County NOW Facebook group\, or you can email admin@willcountynow.org for how to join.
URL:https://www.willcountynow.org/event/august-chapter-meeting/
LOCATION:Virutal
CATEGORIES:Chapter Meeting
END:VEVENT
BEGIN:VEVENT
DTSTART;TZID=America/Chicago:20250729T190000
DTEND;TZID=America/Chicago:20250729T200000
DTSTAMP:20260421T034645
CREATED:20250307T030239Z
LAST-MODIFIED:20250307T030239Z
UID:1518-1753815600-1753819200@www.willcountynow.org
SUMMARY:July Chapter Meeting
DESCRIPTION:Details can be found in the private Will County NOW Facebook group\, or you can email admin@willcountynow.org for how to join.
URL:https://www.willcountynow.org/event/july-chapter-meeting/
LOCATION:Virutal
CATEGORIES:Chapter Meeting
END:VEVENT
BEGIN:VEVENT
DTSTART;TZID=America/Chicago:20250624T190000
DTEND;TZID=America/Chicago:20250624T200000
DTSTAMP:20260421T034645
CREATED:20250307T030143Z
LAST-MODIFIED:20250307T030143Z
UID:1516-1750791600-1750795200@www.willcountynow.org
SUMMARY:June Chapter Meeting
DESCRIPTION:Details can be found in the private Will County NOW Facebook group\, or you can email admin@willcountynow.org for how to join.
URL:https://www.willcountynow.org/event/june-chapter-meeting-2/
LOCATION:Virutal
CATEGORIES:Chapter Meeting
END:VEVENT
BEGIN:VEVENT
DTSTART;TZID=America/Chicago:20250527T190000
DTEND;TZID=America/Chicago:20250527T200000
DTSTAMP:20260421T034645
CREATED:20250307T030039Z
LAST-MODIFIED:20250307T030039Z
UID:1514-1748372400-1748376000@www.willcountynow.org
SUMMARY:May Chapter Meeting
DESCRIPTION:Details can be found in the private Will County NOW Facebook group\, or you can email admin@willcountynow.org for how to join.
URL:https://www.willcountynow.org/event/may-chapter-meeting-3/
LOCATION:Virutal
CATEGORIES:Chapter Meeting
END:VEVENT
BEGIN:VEVENT
DTSTART;TZID=America/Chicago:20250429T190000
DTEND;TZID=America/Chicago:20250429T203000
DTSTAMP:20260421T034645
CREATED:20250307T024605Z
LAST-MODIFIED:20250405T022357Z
UID:1512-1745953200-1745958600@www.willcountynow.org
SUMMARY:Will County NOW Presents Financial Literacy for Women
DESCRIPTION:Description: Are you ready to take control of your finances? Will County NOW is excited to present a virtual event focused on financial literacy specifically for women. Learn valuable tips and tricks to help you manage your money\, plan for the future\, and achieve your financial goals. Don’t miss out on this empowering opportunity to gain financial independence! \nLocation: Online (Zoom link will be mailed to registrants the day before the event) \nTopics include: \n\nFinancial literacy basics (saving\, budgeting\, debt management\, goal setting)\nCommon mistakes women make with their finances and how to avoid them\nHow to protect your personal finances when you are in a difficult situation\n\nA brief Q&A session will follow the presentation \nTo register: https://bit.ly/NOW-FLW
URL:https://www.willcountynow.org/event/april-chapter-meeting-2/
LOCATION:Virutal
CATEGORIES:Chapter Meeting,Webinar
END:VEVENT
END:VCALENDAR