BEGIN:VCALENDAR
VERSION:2.0
PRODID:-//Will County NOW - ECPv6.15.19//NONSGML v1.0//EN
CALSCALE:GREGORIAN
METHOD:PUBLISH
X-ORIGINAL-URL:https://www.willcountynow.org
X-WR-CALDESC:Events for Will County NOW
REFRESH-INTERVAL;VALUE=DURATION:PT1H
X-Robots-Tag:noindex
X-PUBLISHED-TTL:PT1H
BEGIN:VTIMEZONE
TZID:America/Chicago
BEGIN:DAYLIGHT
TZOFFSETFROM:-0600
TZOFFSETTO:-0500
TZNAME:CDT
DTSTART:20240310T080000
END:DAYLIGHT
BEGIN:STANDARD
TZOFFSETFROM:-0500
TZOFFSETTO:-0600
TZNAME:CST
DTSTART:20241103T070000
END:STANDARD
BEGIN:DAYLIGHT
TZOFFSETFROM:-0600
TZOFFSETTO:-0500
TZNAME:CDT
DTSTART:20250309T080000
END:DAYLIGHT
BEGIN:STANDARD
TZOFFSETFROM:-0500
TZOFFSETTO:-0600
TZNAME:CST
DTSTART:20251102T070000
END:STANDARD
BEGIN:DAYLIGHT
TZOFFSETFROM:-0600
TZOFFSETTO:-0500
TZNAME:CDT
DTSTART:20260308T080000
END:DAYLIGHT
BEGIN:STANDARD
TZOFFSETFROM:-0500
TZOFFSETTO:-0600
TZNAME:CST
DTSTART:20261101T070000
END:STANDARD
END:VTIMEZONE
BEGIN:VEVENT
DTSTART;TZID=America/Chicago:20251008T170000
DTEND;TZID=America/Chicago:20251008T200000
DTSTAMP:20260421T161135
CREATED:20250730T185916Z
LAST-MODIFIED:20250730T190139Z
UID:1885-1759942800-1759953600@www.willcountynow.org
SUMMARY:Grundy County Take Back the Night
DESCRIPTION:Take Back the Night first appeared in Europe in 1976 in response to a series of sexual assaults and murders against women. Five years later\, the first event was held in the United States and has continued throughout the world as a sign of empowerment for women\, men and children. This event offers an opportunity for survivors of abuse to join with others of all races\, cultures\, background and experience to combine the strength of their voices to declare an end to violence.
URL:https://www.willcountynow.org/event/grundy-county-take-back-the-night/
LOCATION:Grundy County Courthouse\, 111 E Washington St\, Morris\, IL\, 60450\, United States
CATEGORIES:Lecture/Presentation,Partner Event,Resource Fair
ATTACH;FMTTYPE=image/png:https://www.willcountynow.org/wp-content/uploads/2025/07/6e19a1_4de6b9a6d50941b4b691ce1434bde141mv2-e1753901942580.png
END:VEVENT
END:VCALENDAR