BEGIN:VCALENDAR
VERSION:2.0
PRODID:-//Will County NOW - ECPv6.15.19//NONSGML v1.0//EN
CALSCALE:GREGORIAN
METHOD:PUBLISH
X-WR-CALNAME:Will County NOW
X-ORIGINAL-URL:https://www.willcountynow.org
X-WR-CALDESC:Events for Will County NOW
REFRESH-INTERVAL;VALUE=DURATION:PT1H
X-Robots-Tag:noindex
X-PUBLISHED-TTL:PT1H
BEGIN:VTIMEZONE
TZID:America/Chicago
BEGIN:DAYLIGHT
TZOFFSETFROM:-0600
TZOFFSETTO:-0500
TZNAME:CDT
DTSTART:20240310T080000
END:DAYLIGHT
BEGIN:STANDARD
TZOFFSETFROM:-0500
TZOFFSETTO:-0600
TZNAME:CST
DTSTART:20241103T070000
END:STANDARD
BEGIN:DAYLIGHT
TZOFFSETFROM:-0600
TZOFFSETTO:-0500
TZNAME:CDT
DTSTART:20250309T080000
END:DAYLIGHT
BEGIN:STANDARD
TZOFFSETFROM:-0500
TZOFFSETTO:-0600
TZNAME:CST
DTSTART:20251102T070000
END:STANDARD
BEGIN:DAYLIGHT
TZOFFSETFROM:-0600
TZOFFSETTO:-0500
TZNAME:CDT
DTSTART:20260308T080000
END:DAYLIGHT
BEGIN:STANDARD
TZOFFSETFROM:-0500
TZOFFSETTO:-0600
TZNAME:CST
DTSTART:20261101T070000
END:STANDARD
END:VTIMEZONE
BEGIN:VEVENT
DTSTART;TZID=America/Chicago:20250819T190000
DTEND;TZID=America/Chicago:20250819T200000
DTSTAMP:20260421T125823
CREATED:20250307T030402Z
LAST-MODIFIED:20250730T143012Z
UID:1520-1755630000-1755633600@www.willcountynow.org
SUMMARY:August Chapter Meeting
DESCRIPTION:This meeting is a week earlier than usual due to a schedule conflict. \nDetails can be found in the private Will County NOW Facebook group\, or you can email admin@willcountynow.org for how to join.
URL:https://www.willcountynow.org/event/august-chapter-meeting/
LOCATION:Virutal
CATEGORIES:Chapter Meeting
END:VEVENT
END:VCALENDAR